BEGIN:VCALENDAR
VERSION:2.0
PRODID:-//Squarespace Inc/Squarespace 6//v6//EN
BEGIN:VEVENT
UID:58204c4cff7c509a5caec526@squarespace.com
DTSTAMP:20161118T105723Z
DTSTART:20161111T170000Z
DTEND:20161111T200000Z
SUMMARY:Light Up Galway Christmas 2016
END:VEVENT
END:VCALENDAR
