BEGIN:VCALENDAR
VERSION:2.0
PRODID:-//Squarespace Inc/Squarespace 6//v6//EN
BEGIN:VEVENT
UID:582edd47be65944ef6500723@squarespace.com
DTSTAMP:20161118T105303Z
DTSTART:20161109T070000Z
DTEND:20161109T090000Z
SUMMARY:Leaders' Breakfast
END:VEVENT
END:VCALENDAR
