BEGIN:VCALENDAR
VERSION:2.0
PRODID:-//Squarespace Inc/Squarespace 6//v6//EN
BEGIN:VEVENT
UID:58e3ff52d482e98fd8b7c54c@squarespace.com
DTSTAMP:20170404T201754Z
DTSTART:20171030T000100Z
DTEND:20171030T235900Z
SUMMARY:October Bank Holiday
END:VEVENT
END:VCALENDAR
