BEGIN:VCALENDAR
VERSION:2.0
PRODID:-//Squarespace Inc/Squarespace 6//v6//EN
BEGIN:VEVENT
UID:58e3ff832994ca997dd696df@squarespace.com
DTSTAMP:20170404T201849Z
DTSTART:20171224T000100Z
DTEND:20171224T235900Z
SUMMARY:Christmas Eve
END:VEVENT
END:VCALENDAR
