BEGIN:VCALENDAR
VERSION:2.0
PRODID:-//Squarespace Inc/Squarespace 6//v6//EN
BEGIN:VEVENT
UID:58e3ffb58419c239b74ce7ea@squarespace.com
DTSTAMP:20170404T201930Z
DTSTART:20171225T000700Z
DTEND:20171225T235900Z
SUMMARY:Christmas Day
END:VEVENT
END:VCALENDAR
