BEGIN:VCALENDAR
VERSION:2.0
PRODID:-//Squarespace Inc/Squarespace 6//v6//EN
BEGIN:VEVENT
UID:58e3ffddd2b857cb9a4c7829@squarespace.com
DTSTAMP:20170404T202009Z
DTSTART:20171226T000100Z
DTEND:20171226T235900Z
SUMMARY:St. Stephen's Day
END:VEVENT
END:VCALENDAR
