BEGIN:VCALENDAR
VERSION:2.0
PRODID:-//Squarespace Inc/Squarespace 6//v6//EN
BEGIN:VEVENT
UID:58e400071b631b3fb5b1d113@squarespace.com
DTSTAMP:20170404T202113Z
DTSTART:20171231T000100Z
DTEND:20171231T235900Z
SUMMARY:New Year's Eve
END:VEVENT
END:VCALENDAR
