BEGIN:VCALENDAR
VERSION:2.0
PRODID:-//Squarespace Inc/Squarespace 6//v6//EN
BEGIN:VEVENT
UID:58c6aa0f197aea79a9c0f76d@squarespace.com
DTSTAMP:20170313T142111Z
DTSTART:20170318T150000Z
DTEND:20170318T170000Z
SUMMARY:Ireland Vs England Six Nations Rugby
END:VEVENT
END:VCALENDAR
