BEGIN:VCALENDAR
VERSION:2.0
PRODID:-//Squarespace Inc/Squarespace 6//v6//EN
BEGIN:VEVENT
UID:58c6a853ebbd1a93b1a11f43@squarespace.com
DTSTAMP:20170313T141729Z
DTSTART:20170317T113000Z
DTEND:20170317T130000Z
SUMMARY:St. Patrick's Day Parade
END:VEVENT
END:VCALENDAR
