BEGIN:VCALENDAR
VERSION:2.0
PRODID:-//Squarespace Inc/Squarespace 6//v6//EN
BEGIN:VEVENT
UID:58c6aaf8440243602d58a689@squarespace.com
DTSTAMP:20170313T142217Z
DTSTART:20170326T133000Z
DTEND:20170326T143000Z
SUMMARY:Mother's Day
END:VEVENT
END:VCALENDAR
