BEGIN:VCALENDAR
VERSION:2.0
PRODID:-//Squarespace Inc/Squarespace 6//v6//EN
BEGIN:VEVENT
UID:58e524f6414fb5c0c4d9c8f5@squarespace.com
DTSTAMP:20170405T171217Z
DTSTART:20170413T103000Z
DTEND:20170417T213000Z
SUMMARY:Galway Food Festival
END:VEVENT
END:VCALENDAR
