BEGIN:VCALENDAR
VERSION:2.0
PRODID:-//Squarespace Inc/Squarespace 6//v6//EN
BEGIN:VEVENT
UID:58c6b19e6b8f5b5e4d702a49@squarespace.com
DTSTAMP:20170404T202632Z
DTSTART:20170413T230100Z
DTEND:20170414T225900Z
SUMMARY:Good Friday
END:VEVENT
END:VCALENDAR
