BEGIN:VCALENDAR
VERSION:2.0
PRODID:-//Squarespace Inc/Squarespace 6//v6//EN
BEGIN:VEVENT
UID:58c6b22b03596e9dc4392924@squarespace.com
DTSTAMP:20170313T145553Z
DTSTART:20170415T090000Z
DTEND:20170415T113000Z
SUMMARY:Easter Egg Hunt on Easter Saturday
END:VEVENT
END:VCALENDAR
