BEGIN:VCALENDAR
VERSION:2.0
PRODID:-//Squarespace Inc/Squarespace 6//v6//EN
BEGIN:VEVENT
UID:58c6b30e37c581a0d2a43f61@squarespace.com
DTSTAMP:20170404T202505Z
DTSTART:20170415T230100Z
DTEND:20170416T225900Z
SUMMARY:Easter Sunday
END:VEVENT
END:VCALENDAR
