BEGIN:VCALENDAR
VERSION:2.0
PRODID:-//Squarespace Inc/Squarespace 6//v6//EN
BEGIN:VEVENT
UID:58e3f8d2c534a5264e4c97cf@squarespace.com
DTSTAMP:20170404T202856Z
DTSTART:20170417T140000Z
DTEND:20170417T150000Z
SUMMARY:Irish Grand National
END:VEVENT
END:VCALENDAR
