BEGIN:VCALENDAR
VERSION:2.0
PRODID:-//Squarespace Inc/Squarespace 6//v6//EN
BEGIN:VEVENT
UID:58c6b36e440243602d5924ab@squarespace.com
DTSTAMP:20170404T202551Z
DTSTART:20170416T230100Z
DTEND:20170417T225900Z
SUMMARY:Easter Monday
END:VEVENT
END:VCALENDAR
