BEGIN:VCALENDAR
VERSION:2.0
PRODID:-//Squarespace Inc/Squarespace 6//v6//EN
BEGIN:VEVENT
UID:58c6b0982994cae7ec7e0068@squarespace.com
DTSTAMP:20170405T113557Z
DTSTART:20170517T070000Z
DTEND:20170517T083000Z
SUMMARY:AGM of the GCBA in Hotel Meyrick
END:VEVENT
END:VCALENDAR
