BEGIN:VCALENDAR
VERSION:2.0
PRODID:-//Squarespace Inc/Squarespace 6//v6//EN
BEGIN:VEVENT
UID:58c6ab2dcd0f68690f0ea465@squarespace.com
DTSTAMP:20170404T193952Z
DTSTART:20170405T064500Z
DTEND:20170405T090000Z
SUMMARY:GCBA  Breakfast Event in 56 Central
END:VEVENT
END:VCALENDAR
