BEGIN:VCALENDAR
VERSION:2.0
PRODID:-//Squarespace Inc/Squarespace 6//v6//EN
BEGIN:VEVENT
UID:58e3f814e6f2e127ef12ff3d@squarespace.com
DTSTAMP:20170404T202803Z
DTSTART:20170430T230100Z
DTEND:20170501T225900Z
SUMMARY:May Bank Holiday
END:VEVENT
END:VCALENDAR
