BEGIN:VCALENDAR
VERSION:2.0
PRODID:-//Squarespace Inc/Squarespace 6//v6//EN
BEGIN:VEVENT
UID:58e3f90ee58c62723b709644@squarespace.com
DTSTAMP:20170404T195136Z
DTSTART:20170513T140000Z
DTEND:20170513T160000Z
SUMMARY:Champions Cup Final - Rugby
END:VEVENT
END:VCALENDAR
