BEGIN:VCALENDAR
VERSION:2.0
PRODID:-//Squarespace Inc/Squarespace 6//v6//EN
BEGIN:VEVENT
UID:58e3f95cd2b857cb9a4c017e@squarespace.com
DTSTAMP:20170404T195304Z
DTSTART:20170519T130000Z
DTEND:20170521T090000Z
SUMMARY:Guinness Pro12 Semi-finals - Rugby
END:VEVENT
END:VCALENDAR
