BEGIN:VCALENDAR
VERSION:2.0
PRODID:-//Squarespace Inc/Squarespace 6//v6//EN
BEGIN:VEVENT
UID:58e3f9e81e5b6c3e98041f98@squarespace.com
DTSTAMP:20170404T195444Z
DTSTART:20170527T140000Z
DTEND:20170527T160000Z
SUMMARY:FA Cup Final - Wembley
END:VEVENT
END:VCALENDAR
