BEGIN:VCALENDAR
VERSION:2.0
PRODID:-//Squarespace Inc/Squarespace 6//v6//EN
BEGIN:VEVENT
UID:58e3f9b23a04119e6d9019a2@squarespace.com
DTSTAMP:20170404T195356Z
DTSTART:20170527T140000Z
DTEND:20170527T160000Z
SUMMARY:Guinness Pro12 Final - Rugby
END:VEVENT
END:VCALENDAR
