BEGIN:VCALENDAR
VERSION:2.0
PRODID:-//Squarespace Inc/Squarespace 6//v6//EN
BEGIN:VEVENT
UID:58e3fad5893fc04a187e5221@squarespace.com
DTSTAMP:20170404T195929Z
DTSTART:20170615T120000Z
DTEND:20170618T170000Z
SUMMARY:US Open Golf Championship
END:VEVENT
END:VCALENDAR
