BEGIN:VCALENDAR
VERSION:2.0
PRODID:-//Squarespace Inc/Squarespace 6//v6//EN
BEGIN:VEVENT
UID:58e3fb2c86e6c0ec1dcb3309@squarespace.com
DTSTAMP:20170404T200027Z
DTSTART:20170617T230100Z
DTEND:20170618T225900Z
SUMMARY:Father's Day
END:VEVENT
END:VCALENDAR
