BEGIN:VCALENDAR
VERSION:2.0
PRODID:-//Squarespace Inc/Squarespace 6//v6//EN
BEGIN:VEVENT
UID:58e3fb8be58c62723b70c249@squarespace.com
DTSTAMP:20170404T200406Z
DTSTART:20170603T070000Z
DTEND:20170708T170000Z
SUMMARY:British & Irish Lions Tour
END:VEVENT
END:VCALENDAR
