BEGIN:VCALENDAR
VERSION:2.0
PRODID:-//Squarespace Inc/Squarespace 6//v6//EN
BEGIN:VEVENT
UID:58e3fa106a496317e7059e67@squarespace.com
DTSTAMP:20170404T195547Z
DTSTART:20170603T140000Z
DTEND:20170603T160000Z
SUMMARY:UEFA Champions League Final
END:VEVENT
END:VCALENDAR
