BEGIN:VCALENDAR
VERSION:2.0
PRODID:-//Squarespace Inc/Squarespace 6//v6//EN
BEGIN:VEVENT
UID:58e3fa4c725e25ad99fe1a0c@squarespace.com
DTSTAMP:20170404T195646Z
DTSTART:20170604T230100Z
DTEND:20170605T225900Z
SUMMARY:June Bank Holiday
END:VEVENT
END:VCALENDAR
