BEGIN:VCALENDAR
VERSION:2.0
PRODID:-//Squarespace Inc/Squarespace 6//v6//EN
BEGIN:VEVENT
UID:58e3fa91725e25ad99fe1e97@squarespace.com
DTSTAMP:20170404T195753Z
DTSTART:20170607T083000Z
DTEND:20170607T160000Z
SUMMARY:Leaving Cert & Junior Cert Exams begin
END:VEVENT
END:VCALENDAR
