BEGIN:VCALENDAR
VERSION:2.0
PRODID:-//Squarespace Inc/Squarespace 6//v6//EN
BEGIN:VEVENT
UID:58e3fc429de4bbecc76e7967@squarespace.com
DTSTAMP:20170404T200510Z
DTSTART:20170701T060000Z
DTEND:20170723T170000Z
SUMMARY:Tour de France
END:VEVENT
END:VCALENDAR
