BEGIN:VCALENDAR
VERSION:2.0
PRODID:-//Squarespace Inc/Squarespace 6//v6//EN
BEGIN:VEVENT
UID:58e3fd68e4fcb5a3a0990c76@squarespace.com
DTSTAMP:20170404T200954Z
DTSTART:20170717T133000Z
DTEND:20170730T213000Z
SUMMARY:Galway International Arts Festival
END:VEVENT
END:VCALENDAR
