BEGIN:VCALENDAR
VERSION:2.0
PRODID:-//Squarespace Inc/Squarespace 6//v6//EN
BEGIN:VEVENT
UID:58e3fcc61e5b6c3e980459f4@squarespace.com
DTSTAMP:20170404T200711Z
DTSTART:20170720T083000Z
DTEND:20170723T163000Z
SUMMARY:British Open Golf Championship
END:VEVENT
END:VCALENDAR
