BEGIN:VCALENDAR
VERSION:2.0
PRODID:-//Squarespace Inc/Squarespace 6//v6//EN
BEGIN:VEVENT
UID:58e3fc82f5e2312cc940d092@squarespace.com
DTSTAMP:20170404T200619Z
DTSTART:20170703T123000Z
DTEND:20170716T163000Z
SUMMARY:Wimbledon Tennis Championship
END:VEVENT
END:VCALENDAR
