BEGIN:VCALENDAR
VERSION:2.0
PRODID:-//Squarespace Inc/Squarespace 6//v6//EN
BEGIN:VEVENT
UID:58e3fcfd6b8f5bebdb31cd7c@squarespace.com
DTSTAMP:20170404T200813Z
DTSTART:20170731T133000Z
DTEND:20170805T163000Z
SUMMARY:Galway Race Week
END:VEVENT
END:VCALENDAR
