BEGIN:VCALENDAR
VERSION:2.0
PRODID:-//Squarespace Inc/Squarespace 6//v6//EN
BEGIN:VEVENT
UID:58e3fe781b10e3de1ab5301b@squarespace.com
DTSTAMP:20170404T201516Z
DTSTART:20170820T143000Z
DTEND:20170820T163000Z
SUMMARY:GAA Football All-Ireland Senior Championship Semi-final
END:VEVENT
END:VCALENDAR
