BEGIN:VCALENDAR
VERSION:2.0
PRODID:-//Squarespace Inc/Squarespace 6//v6//EN
BEGIN:VEVENT
UID:58e3fee0c534a5264e4d0576@squarespace.com
DTSTAMP:20170404T201607Z
DTSTART:20170827T143000Z
DTEND:20170827T163000Z
SUMMARY:GAA Football All-Ireland Senior Championship Semi-final
END:VEVENT
END:VCALENDAR
