BEGIN:VCALENDAR
VERSION:2.0
PRODID:-//Squarespace Inc/Squarespace 6//v6//EN
BEGIN:VEVENT
UID:58e3fd9ee4fcb5a3a0990fb1@squarespace.com
DTSTAMP:20170404T201130Z
DTSTART:20170806T230100Z
DTEND:20170807T225900Z
SUMMARY:August Bank Holiday
END:VEVENT
END:VCALENDAR
