BEGIN:VCALENDAR
VERSION:2.0
PRODID:-//Squarespace Inc/Squarespace 6//v6//EN
BEGIN:VEVENT
UID:58e3fdfdb3db2b7a7e55a451@squarespace.com
DTSTAMP:20170404T201224Z
DTSTART:20170807T123000Z
DTEND:20170813T163000Z
SUMMARY:US PGA Golf Championship
END:VEVENT
END:VCALENDAR
