BEGIN:VCALENDAR
VERSION:2.0
PRODID:-//Squarespace Inc/Squarespace 6//v6//EN
BEGIN:VEVENT
UID:58e3fe34b8a79bb4b8626ce2@squarespace.com
DTSTAMP:20170404T201327Z
DTSTART:20170809T133000Z
DTEND:20170826T163000Z
SUMMARY:Women's Rugby World Cup
END:VEVENT
END:VCALENDAR
