BEGIN:VCALENDAR
VERSION:2.0
PRODID:-//Squarespace Inc/Squarespace 6//v6//EN
BEGIN:VEVENT
UID:58e3ff1e86e6c0ec1dcb7c15@squarespace.com
DTSTAMP:20170404T201710Z
DTSTART:20170917T143000Z
DTEND:20170917T163000Z
SUMMARY:GAA Football All-Ireland Senior Championship Final
END:VEVENT
END:VCALENDAR
