BEGIN:VCALENDAR
VERSION:2.0
PRODID:-//Squarespace Inc/Squarespace 6//v6//EN
BEGIN:VEVENT
UID:58e40046440243062e6d7a4f@squarespace.com
DTSTAMP:20170404T202206Z
DTSTART:20180101T000100Z
DTEND:20180101T235900Z
SUMMARY:New Year's Day 2018
END:VEVENT
END:VCALENDAR
